BEGIN:VCALENDAR
VERSION:2.0
PRODID:-//CERN//INDICO//EN
BEGIN:VEVENT
SUMMARY:Session 1-3:High Field Superconducting Magnet Program for Accelera
 tors in IHEP China"\, Qingjin Xu (IHEP)
DTSTART:20190121T053000Z
DTEND:20190121T060000Z
DTSTAMP:20260424T210900Z
UID:indico-contribution-1254@conference-indico.kek.jp
DESCRIPTION:https://conference-indico.kek.jp/event/62/contributions/1254/
LOCATION:Toru Ogitsu
RELATED-TO:indico-event-62@conference-indico.kek.jp
URL:https://conference-indico.kek.jp/event/62/contributions/1254/
END:VEVENT
END:VCALENDAR
