BEGIN:VCALENDAR
VERSION:2.0
PRODID:-//CERN//INDICO//EN
BEGIN:VEVENT
SUMMARY:Session 1-2:LTS and HTS magnet development activities at CERN"\, E
 zio Todesco (CERN)
DTSTART:20190121T044500Z
DTEND:20190121T053000Z
DTSTAMP:20260424T210900Z
UID:indico-contribution-1255@conference-indico.kek.jp
DESCRIPTION:https://conference-indico.kek.jp/event/62/contributions/1255/
LOCATION:Toru Ogitsu
RELATED-TO:indico-event-62@conference-indico.kek.jp
URL:https://conference-indico.kek.jp/event/62/contributions/1255/
END:VEVENT
END:VCALENDAR
