BEGIN:VCALENDAR
VERSION:2.0
PRODID:-//CERN//INDICO//EN
BEGIN:VEVENT
SUMMARY:Session 2-2:Design concept and R&D studies for upgrading of 25T cr
 yogen-free superconducting magnet\, S. Awaji(Tohoku U.)
DTSTART:20190121T064500Z
DTEND:20190121T071500Z
DTSTAMP:20260424T231800Z
UID:indico-contribution-1256@conference-indico.kek.jp
DESCRIPTION:https://conference-indico.kek.jp/event/62/contributions/1256/
LOCATION:E. Todesco
RELATED-TO:indico-event-62@conference-indico.kek.jp
URL:https://conference-indico.kek.jp/event/62/contributions/1256/
END:VEVENT
END:VCALENDAR
