BEGIN:VCALENDAR
VERSION:2.0
PRODID:-//CERN//INDICO//EN
BEGIN:VEVENT
SUMMARY:Session 2-1:Development of HTS magnet system for Skeleton Cyclotro
 n Accelerator- Next Generation Medical Application -\, S. Noguchi (Hokkaid
 o U.)
DTSTART:20190121T061500Z
DTEND:20190121T064500Z
DTSTAMP:20260424T210900Z
UID:indico-contribution-1257@conference-indico.kek.jp
DESCRIPTION:https://conference-indico.kek.jp/event/62/contributions/1257/
LOCATION:E. Todesco
RELATED-TO:indico-event-62@conference-indico.kek.jp
URL:https://conference-indico.kek.jp/event/62/contributions/1257/
END:VEVENT
END:VCALENDAR
