BEGIN:VCALENDAR
VERSION:2.0
PRODID:-//CERN//INDICO//EN
BEGIN:VEVENT
SUMMARY:Session 2-3:Research and development of high radiation-resistant s
 uperconducting  magnet based on REBCO coated conductors\, M. Iio (KEK)
DTSTART:20190121T071500Z
DTEND:20190121T074500Z
DTSTAMP:20260424T231800Z
UID:indico-contribution-1259@conference-indico.kek.jp
DESCRIPTION:https://conference-indico.kek.jp/event/62/contributions/1259/
LOCATION:E. Todesco
RELATED-TO:indico-event-62@conference-indico.kek.jp
URL:https://conference-indico.kek.jp/event/62/contributions/1259/
END:VEVENT
END:VCALENDAR
