BEGIN:VCALENDAR
VERSION:2.0
PRODID:-//CERN//INDICO//EN
BEGIN:VEVENT
SUMMARY:Session 3-3:FCC Condutor R&D\, Simon Hopkins (CERN) -Video Confere
 nce
DTSTART:20190121T090000Z
DTEND:20190121T093000Z
DTSTAMP:20260424T210900Z
UID:indico-contribution-1260@conference-indico.kek.jp
DESCRIPTION:https://conference-indico.kek.jp/event/62/contributions/1260/
LOCATION:S. Awaji
RELATED-TO:indico-event-62@conference-indico.kek.jp
URL:https://conference-indico.kek.jp/event/62/contributions/1260/
END:VEVENT
END:VCALENDAR
