BEGIN:VCALENDAR
VERSION:2.0
PRODID:-//CERN//INDICO//EN
BEGIN:VEVENT
SUMMARY:Session 3-2:R&D on emerging conductors for high field applications
 "\, Marina Putti (Genova U.) Video Conference
DTSTART:20190121T083000Z
DTEND:20190121T090000Z
DTSTAMP:20260424T231900Z
UID:indico-contribution-1261@conference-indico.kek.jp
DESCRIPTION:https://conference-indico.kek.jp/event/62/contributions/1261/
LOCATION:S. Awaji
RELATED-TO:indico-event-62@conference-indico.kek.jp
URL:https://conference-indico.kek.jp/event/62/contributions/1261/
END:VEVENT
END:VCALENDAR
