BEGIN:VCALENDAR
VERSION:2.0
PRODID:-//CERN//INDICO//EN
BEGIN:VEVENT
SUMMARY:Session 5-3:Development of high-strength 122-type iron-based super
 conducting wires and tapes for high-field applications\, Zhe CHENG(IEE)
DTSTART:20190122T031500Z
DTEND:20190122T034500Z
DTSTAMP:20260424T205400Z
UID:indico-contribution-1266@conference-indico.kek.jp
DESCRIPTION:https://conference-indico.kek.jp/event/62/contributions/1266/
LOCATION:S. Gourlay
RELATED-TO:indico-event-62@conference-indico.kek.jp
URL:https://conference-indico.kek.jp/event/62/contributions/1266/
END:VEVENT
END:VCALENDAR
