BEGIN:VCALENDAR
VERSION:2.0
PRODID:-//CERN//INDICO//EN
BEGIN:VEVENT
SUMMARY:Session 5-2:Conditions for successful quench protections of RE-123
 -coated-conductor magnets\, N. Amemiya(Kyoto U.)
DTSTART:20190122T024500Z
DTEND:20190122T031500Z
DTSTAMP:20260424T231800Z
UID:indico-contribution-1267@conference-indico.kek.jp
DESCRIPTION:https://conference-indico.kek.jp/event/62/contributions/1267/
LOCATION:S. Gourlay
RELATED-TO:indico-event-62@conference-indico.kek.jp
URL:https://conference-indico.kek.jp/event/62/contributions/1267/
END:VEVENT
END:VCALENDAR
