BEGIN:VCALENDAR
VERSION:2.0
PRODID:-//CERN//INDICO//EN
BEGIN:VEVENT
SUMMARY:AdvSCMws 2019
DTSTART;VALUE=DATE-TIME:20190121T030000Z
DTEND;VALUE=DATE-TIME:20190123T063000Z
DTSTAMP;VALUE=DATE-TIME:20210528T041848Z
UID:indico-event-62@conference-indico.kek.jp
DESCRIPTION:The workshop on the advanced superconducting magnets for accel
 erator science.\nThe advanced superconducting materials used for those mag
 nets will be also discussed.\n\nProgram Committee:\nToru Ogitsu\, KEK (Cha
 ir)\nNaoyuki Amemiya\, Kyoto University\nSatoshi Awaji\, Tohoku University
 \nTatsushi Nakamoto\, KEK\nKen-ichi Sasaki\,KEK\nChuanbing Cai\, Shanghai 
 University\nJie Gao\, Institute of High Energy Physics\, Chinese Academy o
 f Sciences\nYanwei Ma\, Institute of Electrical Engineering\, Chinese Acad
 emy of Sciences\nQingjin Xu\, Institute of High Energy Physics\, Chinese A
 cademy of Sciences(Co-Chair)\nYutaka Yamada\, Shanghai Superconductor Co. 
 Ltd.\nXiaorong Wang\, LBNL\nAmalia Ballarino\, CERN\nArnaud Devred\, CERN\
 n\n \n\nLocal Organizing Committee:\nJunji Urakawa\nToru Ogitsu\nTatsutos
 hi Nakamoto\nKen-ichi Sasaki\nSachiko Arimoto\nRitsuko Ota\n\n\n\nhttps://
 conference-indico.kek.jp/event/62/
LOCATION:
URL:https://conference-indico.kek.jp/event/62/
END:VEVENT
END:VCALENDAR
