BEGIN:VCALENDAR
VERSION:2.0
PRODID:-//CERN//INDICO//EN
BEGIN:VEVENT
SUMMARY:Introduction
DTSTART:20190121T040000Z
DTEND:20190121T041500Z
DTSTAMP:20260424T232300Z
UID:indico-session-444@conference-indico.kek.jp
DESCRIPTION:https://conference-indico.kek.jp/event/62/sessions/444/
RELATED-TO:indico-event-62@conference-indico.kek.jp
URL:https://conference-indico.kek.jp/event/62/sessions/444/
END:VEVENT
END:VCALENDAR
