BEGIN:VCALENDAR
VERSION:2.0
PRODID:-//CERN//INDICO//EN
BEGIN:VEVENT
SUMMARY:Registration
DTSTART:20190121T030000Z
DTEND:20190121T040000Z
DTSTAMP:20260424T205000Z
UID:indico-session-445@conference-indico.kek.jp
DESCRIPTION:https://conference-indico.kek.jp/event/62/sessions/445/
RELATED-TO:indico-event-62@conference-indico.kek.jp
URL:https://conference-indico.kek.jp/event/62/sessions/445/
END:VEVENT
END:VCALENDAR
