BEGIN:VCALENDAR
VERSION:2.0
PRODID:-//CERN//INDICO//EN
BEGIN:VEVENT
SUMMARY:P15 : The status and prospects of Cylindrical Drift Chamber for CO
 MET Phase-I
DTSTART:20190617T094400Z
DTEND:20190617T094500Z
DTSTAMP:20260424T213900Z
UID:indico-contribution-1393@conference-indico.kek.jp
DESCRIPTION:Speakers: Hisataka Yoshida (Osaka University)\n\nhttps://confe
 rence-indico.kek.jp/event/70/contributions/1393/
LOCATION:Lobby
RELATED-TO:indico-event-70@conference-indico.kek.jp
URL:https://conference-indico.kek.jp/event/70/contributions/1393/
END:VEVENT
END:VCALENDAR
