BEGIN:VCALENDAR
VERSION:2.0
PRODID:-//CERN//INDICO//EN
BEGIN:VEVENT
SUMMARY:P17 : Performance study of LYSO crystal for the Electromagnetic Ca
 lorimeter in the COMET experiment
DTSTART:20190617T094600Z
DTEND:20190617T094700Z
DTSTAMP:20260424T213900Z
UID:indico-contribution-1395@conference-indico.kek.jp
DESCRIPTION:Speakers: Ryosuke Kawashima (Kyushu University)\n\nhttps://con
 ference-indico.kek.jp/event/70/contributions/1395/
LOCATION:Lobby
RELATED-TO:indico-event-70@conference-indico.kek.jp
URL:https://conference-indico.kek.jp/event/70/contributions/1395/
END:VEVENT
END:VCALENDAR
