BEGIN:VCALENDAR
VERSION:2.0
PRODID:-//CERN//INDICO//EN
BEGIN:VEVENT
SUMMARY:P18 : A Study of the Performance of the Tracker and Calorimeter fo
 r the COMET Experiment
DTSTART:20190617T094700Z
DTEND:20190617T094800Z
DTSTAMP:20260424T215900Z
UID:indico-contribution-1396@conference-indico.kek.jp
DESCRIPTION:Speakers: Kou Oishi (Kyushu University)\n\nhttps://conference-
 indico.kek.jp/event/70/contributions/1396/
LOCATION:Lobby
RELATED-TO:indico-event-70@conference-indico.kek.jp
URL:https://conference-indico.kek.jp/event/70/contributions/1396/
END:VEVENT
END:VCALENDAR
