BEGIN:VCALENDAR
VERSION:2.0
PRODID:-//CERN//INDICO//EN
BEGIN:VEVENT
SUMMARY:P16 : Development of the Fast Online Trigger System using FPGA-bas
 ed Classification for COMET Phase-I
DTSTART:20190617T094500Z
DTEND:20190617T094600Z
DTSTAMP:20260424T215900Z
UID:indico-contribution-1399@conference-indico.kek.jp
DESCRIPTION:Speakers: Yu Nakazawa (Osaka University)\n\nhttps://conference
 -indico.kek.jp/event/70/contributions/1399/
LOCATION:Lobby
RELATED-TO:indico-event-70@conference-indico.kek.jp
URL:https://conference-indico.kek.jp/event/70/contributions/1399/
END:VEVENT
END:VCALENDAR
