BEGIN:VCALENDAR
VERSION:2.0
PRODID:-//CERN//INDICO//EN
BEGIN:VEVENT
SUMMARY:P13 : Exploration of New Physics – Muon to Positron Transition a
 t COMET experiment
DTSTART:20190617T094200Z
DTEND:20190617T094300Z
DTSTAMP:20260424T215900Z
UID:indico-contribution-1409@conference-indico.kek.jp
DESCRIPTION:Speakers: TingSam Wong (Osaka University)\n\nhttps://conferenc
 e-indico.kek.jp/event/70/contributions/1409/
LOCATION:Lobby
RELATED-TO:indico-event-70@conference-indico.kek.jp
URL:https://conference-indico.kek.jp/event/70/contributions/1409/
END:VEVENT
END:VCALENDAR
