BEGIN:VCALENDAR
VERSION:2.0
PRODID:-//CERN//INDICO//EN
BEGIN:VEVENT
SUMMARY:Extended Higgs Sectors and CLFV
DTSTART:20190618T005000Z
DTEND:20190618T013000Z
DTSTAMP:20260425T010400Z
UID:indico-contribution-1410@conference-indico.kek.jp
DESCRIPTION:Speakers: Takaaki Nomura (KIAS)\n\nhttps://conference-indico.k
 ek.jp/event/70/contributions/1410/
LOCATION:International Conference Room
RELATED-TO:indico-event-70@conference-indico.kek.jp
URL:https://conference-indico.kek.jp/event/70/contributions/1410/
END:VEVENT
END:VCALENDAR
