BEGIN:VCALENDAR
VERSION:2.0
PRODID:-//CERN//INDICO//EN
BEGIN:VEVENT
SUMMARY:Searches for CLFV at Current and Future Colliders
DTSTART:20190618T000000Z
DTEND:20190618T005000Z
DTSTAMP:20260424T215900Z
UID:indico-contribution-1411@conference-indico.kek.jp
DESCRIPTION:Speakers: Michael Schmidt (The University of New South Wales)\
 n\nhttps://conference-indico.kek.jp/event/70/contributions/1411/
LOCATION:International Conference Room
RELATED-TO:indico-event-70@conference-indico.kek.jp
URL:https://conference-indico.kek.jp/event/70/contributions/1411/
END:VEVENT
END:VCALENDAR
