BEGIN:VCALENDAR
VERSION:2.0
PRODID:-//CERN//INDICO//EN
BEGIN:VEVENT
SUMMARY:P20 : Realistic Trigger Simulation for COMET Phase-II
DTSTART:20190617T094900Z
DTEND:20190617T095000Z
DTSTAMP:20260425T010400Z
UID:indico-contribution-1412@conference-indico.kek.jp
DESCRIPTION:Speakers: Yuki Fujii (Monash University)\n\nhttps://conference
 -indico.kek.jp/event/70/contributions/1412/
LOCATION:Lobby
RELATED-TO:indico-event-70@conference-indico.kek.jp
URL:https://conference-indico.kek.jp/event/70/contributions/1412/
END:VEVENT
END:VCALENDAR
