BEGIN:VCALENDAR
VERSION:2.0
PRODID:-//CERN//INDICO//EN
BEGIN:VEVENT
SUMMARY:Lepton-flavor-violating decays into axion-like particles
DTSTART:20190618T021000Z
DTEND:20190618T025000Z
DTSTAMP:20260424T215900Z
UID:indico-contribution-1413@conference-indico.kek.jp
DESCRIPTION:Speakers: Lorenzo Calibbi (Nankai University)\n\nhttps://confe
 rence-indico.kek.jp/event/70/contributions/1413/
LOCATION:International Conference Room
RELATED-TO:indico-event-70@conference-indico.kek.jp
URL:https://conference-indico.kek.jp/event/70/contributions/1413/
END:VEVENT
END:VCALENDAR
