BEGIN:VCALENDAR
VERSION:2.0
PRODID:-//CERN//INDICO//EN
BEGIN:VEVENT
SUMMARY:CLFV and Neutrino Mass Models
DTSTART:20190618T062000Z
DTEND:20190618T071000Z
DTSTAMP:20260424T213900Z
UID:indico-contribution-1414@conference-indico.kek.jp
DESCRIPTION:Speakers: Asmaa Abada (Laboratoire de Physique Theorique\, CNR
 S)\n\nhttps://conference-indico.kek.jp/event/70/contributions/1414/
LOCATION:International Conference Room
RELATED-TO:indico-event-70@conference-indico.kek.jp
URL:https://conference-indico.kek.jp/event/70/contributions/1414/
END:VEVENT
END:VCALENDAR
