BEGIN:VCALENDAR
VERSION:2.0
PRODID:-//CERN//INDICO//EN
BEGIN:VEVENT
SUMMARY:P14 : Antiproton-induced background in μ-e conversion experiments
DTSTART:20190617T094300Z
DTEND:20190617T094400Z
DTSTAMP:20260424T213900Z
UID:indico-contribution-1422@conference-indico.kek.jp
DESCRIPTION:Speakers: Manabu Moritsu (KEK)\n\nhttps://conference-indico.ke
 k.jp/event/70/contributions/1422/
LOCATION:Lobby
RELATED-TO:indico-event-70@conference-indico.kek.jp
URL:https://conference-indico.kek.jp/event/70/contributions/1422/
END:VEVENT
END:VCALENDAR
