BEGIN:VCALENDAR
VERSION:2.0
PRODID:-//CERN//INDICO//EN
BEGIN:VEVENT
SUMMARY:P21 : Improved Study for Phase-II of COMET Experiment
DTSTART:20190617T095000Z
DTEND:20190617T095100Z
DTSTAMP:20260424T215900Z
UID:indico-contribution-1424@conference-indico.kek.jp
DESCRIPTION:Speakers: Weichao Yao (Osaka University)\n\nhttps://conference
 -indico.kek.jp/event/70/contributions/1424/
LOCATION:Lobby
RELATED-TO:indico-event-70@conference-indico.kek.jp
URL:https://conference-indico.kek.jp/event/70/contributions/1424/
END:VEVENT
END:VCALENDAR
