BEGIN:VCALENDAR
VERSION:2.0
PRODID:-//CERN//INDICO//EN
BEGIN:VEVENT
SUMMARY:P19 : Development of the StrECal System for COMET phase-I
DTSTART:20190617T094800Z
DTEND:20190617T094900Z
DTSTAMP:20260425T010400Z
UID:indico-contribution-1427@conference-indico.kek.jp
DESCRIPTION:Speakers: Kazuki Ueno (KEK)\n\nhttps://conference-indico.kek.j
 p/event/70/contributions/1427/
LOCATION:Lobby
RELATED-TO:indico-event-70@conference-indico.kek.jp
URL:https://conference-indico.kek.jp/event/70/contributions/1427/
END:VEVENT
END:VCALENDAR
