BEGIN:VCALENDAR
VERSION:2.0
PRODID:-//CERN//INDICO//EN
BEGIN:VEVENT
SUMMARY:Symposium
DTSTART:20190927T043000Z
DTEND:20190927T061500Z
DTSTAMP:20260424T222500Z
UID:indico-session-569@conference-indico.kek.jp
DESCRIPTION:https://conference-indico.kek.jp/event/81/sessions/569/
LOCATION:Kobayashi-Hall (Kenkyu-Honkan)
RELATED-TO:indico-event-81@conference-indico.kek.jp
URL:https://conference-indico.kek.jp/event/81/sessions/569/
END:VEVENT
END:VCALENDAR
