BEGIN:VCALENDAR
VERSION:2.0
PRODID:-//CERN//INDICO//EN
BEGIN:VEVENT
SUMMARY:Symposium
DTSTART:20190927T064500Z
DTEND:20190927T082000Z
DTSTAMP:20260424T220300Z
UID:indico-session-572@conference-indico.kek.jp
DESCRIPTION:https://conference-indico.kek.jp/event/81/sessions/572/
LOCATION:Kobayashi-Hall (Kenkyu-Honkan)
RELATED-TO:indico-event-81@conference-indico.kek.jp
URL:https://conference-indico.kek.jp/event/81/sessions/572/
END:VEVENT
END:VCALENDAR
