BEGIN:VCALENDAR
VERSION:2.0
PRODID:-//CERN//INDICO//EN
BEGIN:VEVENT
SUMMARY:つくばソフトマター研究会2019
DTSTART:20190808T004500Z
DTEND:20190808T093000Z
DTSTAMP:20260425T011300Z
UID:indico-event-82@conference-indico.kek.jp
DESCRIPTION:詳細はこちら\n\nhttps://conference-indico.kek.jp/event/8
 2/
LOCATION:4号館3階輪講室 (KEK)
URL:https://conference-indico.kek.jp/event/82/
END:VEVENT
END:VCALENDAR
