BEGIN:VCALENDAR
VERSION:2.0
PRODID:-//CERN//INDICO//EN
BEGIN:VEVENT
SUMMARY:Exploring the origins of the Earth and life
DTSTART;VALUE=DATE-TIME:20190926T003000Z
DTEND;VALUE=DATE-TIME:20190926T011500Z
DTSTAMP;VALUE=DATE-TIME:20210802T102419Z
UID:indico-contribution-1783@conference-indico.kek.jp
DESCRIPTION:Speakers: Kei Hirose ()\nhttps://conference-indico.kek.jp/even
 t/91/contributions/1783/
LOCATION: Main Convention Hall
URL:https://conference-indico.kek.jp/event/91/contributions/1783/
END:VEVENT
END:VCALENDAR
