BEGIN:VCALENDAR
VERSION:2.0
PRODID:-//CERN//INDICO//EN
BEGIN:VEVENT
SUMMARY:Physics and Energy
DTSTART;VALUE=DATE-TIME:20190925T234500Z
DTEND;VALUE=DATE-TIME:20190926T003000Z
DTSTAMP;VALUE=DATE-TIME:20210802T102357Z
UID:indico-contribution-1784@conference-indico.kek.jp
DESCRIPTION:Speakers: Robert L. Jaffe ()\nhttps://conference-indico.kek.jp
 /event/91/contributions/1784/
LOCATION: Main Convention Hall
URL:https://conference-indico.kek.jp/event/91/contributions/1784/
END:VEVENT
END:VCALENDAR
