BEGIN:VCALENDAR
VERSION:2.0
PRODID:-//CERN//INDICO//EN
BEGIN:VEVENT
SUMMARY:Current Status in J-PARC MLF (invited)
DTSTART;VALUE=DATE-TIME:20190925T064000Z
DTEND;VALUE=DATE-TIME:20190925T071000Z
DTSTAMP;VALUE=DATE-TIME:20210802T102219Z
UID:indico-contribution-1801@conference-indico.kek.jp
DESCRIPTION:Speakers: Toshiji Kanaya (J-PARC Center)\nhttps://conference-i
 ndico.kek.jp/event/91/contributions/1801/
LOCATION: Convention Hall 200
URL:https://conference-indico.kek.jp/event/91/contributions/1801/
END:VEVENT
END:VCALENDAR
