BEGIN:VCALENDAR
VERSION:2.0
PRODID:-//CERN//INDICO//EN
BEGIN:VEVENT
SUMMARY:Current status of Muon Science Facility (invited)
DTSTART;VALUE=DATE-TIME:20190925T071000Z
DTEND;VALUE=DATE-TIME:20190925T074000Z
DTSTAMP;VALUE=DATE-TIME:20210802T102241Z
UID:indico-contribution-1802@conference-indico.kek.jp
DESCRIPTION:Speakers: Naritoshi Kawamura (KEK-IMSS)\nhttps://conference-in
 dico.kek.jp/event/91/contributions/1802/
LOCATION: Convention Hall 200
URL:https://conference-indico.kek.jp/event/91/contributions/1802/
END:VEVENT
END:VCALENDAR
