BEGIN:VCALENDAR
VERSION:2.0
PRODID:-//CERN//INDICO//EN
BEGIN:VEVENT
SUMMARY:The NOvA Deep Learning Program: New developments\, successes\, les
 sons\, and prospects for further improving physics analyses [contributed]
DTSTART;VALUE=DATE-TIME:20190926T071000Z
DTEND;VALUE=DATE-TIME:20190926T073000Z
DTSTAMP;VALUE=DATE-TIME:20210806T190001Z
UID:indico-contribution-1813@conference-indico.kek.jp
DESCRIPTION:Speakers: Fernanda Psihas (University of Texas)\nhttps://confe
 rence-indico.kek.jp/event/91/contributions/1813/
LOCATION: Room 202
URL:https://conference-indico.kek.jp/event/91/contributions/1813/
END:VEVENT
END:VCALENDAR
