BEGIN:VCALENDAR
VERSION:2.0
PRODID:-//CERN//INDICO//EN
BEGIN:VEVENT
SUMMARY:The Hyper-Kamiokande project [invited]
DTSTART;VALUE=DATE-TIME:20190926T073000Z
DTEND;VALUE=DATE-TIME:20190926T080000Z
DTSTAMP;VALUE=DATE-TIME:20210806T190023Z
UID:indico-contribution-1814@conference-indico.kek.jp
DESCRIPTION:Speakers: Akira Konaka (TRIUMF)\nhttps://conference-indico.kek
 .jp/event/91/contributions/1814/
LOCATION: Room 202
URL:https://conference-indico.kek.jp/event/91/contributions/1814/
END:VEVENT
END:VCALENDAR
