BEGIN:VCALENDAR
VERSION:2.0
PRODID:-//CERN//INDICO//EN
BEGIN:VEVENT
SUMMARY:J-PARC MLF Users Society (invited)
DTSTART;VALUE=DATE-TIME:20190925T081000Z
DTEND;VALUE=DATE-TIME:20190925T083000Z
DTSTAMP;VALUE=DATE-TIME:20210802T102333Z
UID:indico-contribution-1867@conference-indico.kek.jp
DESCRIPTION:Speakers: Kenya Kubo (International Christian University)\nhtt
 ps://conference-indico.kek.jp/event/91/contributions/1867/
LOCATION: Convention Hall 200
URL:https://conference-indico.kek.jp/event/91/contributions/1867/
END:VEVENT
END:VCALENDAR
