BEGIN:VCALENDAR
VERSION:2.0
PRODID:-//CERN//INDICO//EN
BEGIN:VEVENT
SUMMARY:Present Status of Neutron Source at J-PARC MLF (invited)
DTSTART;VALUE=DATE-TIME:20190925T074000Z
DTEND;VALUE=DATE-TIME:20190925T081000Z
DTSTAMP;VALUE=DATE-TIME:20210802T102304Z
UID:indico-contribution-1868@conference-indico.kek.jp
DESCRIPTION:Speakers: Katsuhiro Haga (J-PARC Center)\nhttps://conference-i
 ndico.kek.jp/event/91/contributions/1868/
LOCATION: Convention Hall 200
URL:https://conference-indico.kek.jp/event/91/contributions/1868/
END:VEVENT
END:VCALENDAR
