BEGIN:VCALENDAR
VERSION:2.0
PRODID:-//CERN//INDICO//EN
BEGIN:VEVENT
SUMMARY:Searches for the Neutron Electric Dipole Moment(invited)
DTSTART;VALUE=DATE-TIME:20190926T073000Z
DTEND;VALUE=DATE-TIME:20190926T075500Z
DTSTAMP;VALUE=DATE-TIME:20210806T190159Z
UID:indico-contribution-1881@conference-indico.kek.jp
DESCRIPTION:Speakers: Thomas Lindner (TRIUMF  / University of Winnipeg)\nh
 ttps://conference-indico.kek.jp/event/91/contributions/1881/
LOCATION: Room 303
URL:https://conference-indico.kek.jp/event/91/contributions/1881/
END:VEVENT
END:VCALENDAR
