BEGIN:VCALENDAR
VERSION:2.0
PRODID:-//CERN//INDICO//EN
BEGIN:VEVENT
SUMMARY:Subunit dynamics in α-crystallin through deuteration-assisted sma
 ll-angle neutron scattering
DTSTART;VALUE=DATE-TIME:20190926T081000Z
DTEND;VALUE=DATE-TIME:20190926T083000Z
DTSTAMP;VALUE=DATE-TIME:20210806T190501Z
UID:indico-contribution-1923@conference-indico.kek.jp
DESCRIPTION:Speakers: Rintaro Inoue (Kyoto University)\nhttps://conference
 -indico.kek.jp/event/91/contributions/1923/
LOCATION: Room 406
URL:https://conference-indico.kek.jp/event/91/contributions/1923/
END:VEVENT
END:VCALENDAR
