BEGIN:VCALENDAR
VERSION:2.0
PRODID:-//CERN//INDICO//EN
BEGIN:VEVENT
SUMMARY:Status of the ESSnuSB Design Study (invited)
DTSTART;VALUE=DATE-TIME:20190926T021500Z
DTEND;VALUE=DATE-TIME:20190926T025000Z
DTSTAMP;VALUE=DATE-TIME:20210802T102506Z
UID:indico-contribution-1925@conference-indico.kek.jp
DESCRIPTION:Speakers: Tord Ekelof (Uppsala University)\nhttps://conference
 -indico.kek.jp/event/91/contributions/1925/
LOCATION: Convention Hall 200
URL:https://conference-indico.kek.jp/event/91/contributions/1925/
END:VEVENT
END:VCALENDAR
