BEGIN:VCALENDAR
VERSION:2.0
PRODID:-//CERN//INDICO//EN
BEGIN:VEVENT
SUMMARY:The FAIR Project: Realization including industrial contractors and
  status (invited)
DTSTART;VALUE=DATE-TIME:20190925T074000Z
DTEND;VALUE=DATE-TIME:20190925T081000Z
DTSTAMP;VALUE=DATE-TIME:20210802T102158Z
UID:indico-contribution-1951@conference-indico.kek.jp
DESCRIPTION:Speakers: Niels Pyka (GSI)\nhttps://conference-indico.kek.jp/e
 vent/91/contributions/1951/
LOCATION: Room 405
URL:https://conference-indico.kek.jp/event/91/contributions/1951/
END:VEVENT
END:VCALENDAR
