BEGIN:VCALENDAR
VERSION:2.0
PRODID:-//CERN//INDICO//EN
BEGIN:VEVENT
SUMMARY:Plenary
DTSTART:20190925T234500Z
DTEND:20190926T012000Z
DTSTAMP:20260424T233900Z
UID:indico-session-683@conference-indico.kek.jp
DESCRIPTION:Chair: Tadashi Koseki/Toshiji Kanaya\n\nhttps://conference-ind
 ico.kek.jp/event/91/sessions/683/
RELATED-TO:indico-event-91@conference-indico.kek.jp
URL:https://conference-indico.kek.jp/event/91/sessions/683/
END:VEVENT
END:VCALENDAR
