BEGIN:VCALENDAR
VERSION:2.0
PRODID:-//CERN//INDICO//EN
BEGIN:VEVENT
SUMMARY:MLF-MT
DTSTART:20190925T014000Z
DTEND:20190925T033000Z
DTSTAMP:20260424T224300Z
UID:indico-session-690@conference-indico.kek.jp
DESCRIPTION:Chair: Kazuhisa Kakurai (CROSS)\n\nhttps://conference-indico.k
 ek.jp/event/91/sessions/690/
RELATED-TO:indico-event-91@conference-indico.kek.jp
URL:https://conference-indico.kek.jp/event/91/sessions/690/
END:VEVENT
END:VCALENDAR
