BEGIN:VCALENDAR
VERSION:2.0
PRODID:-//CERN//INDICO//EN
BEGIN:VEVENT
SUMMARY:MLF-IN
DTSTART:20190926T014000Z
DTEND:20190926T033000Z
DTSTAMP:20260424T205800Z
UID:indico-session-700@conference-indico.kek.jp
DESCRIPTION:Chair: Jun-ichi Suzuki (CROSS)\n\nhttps://conference-indico.ke
 k.jp/event/91/sessions/700/
RELATED-TO:indico-event-91@conference-indico.kek.jp
URL:https://conference-indico.kek.jp/event/91/sessions/700/
END:VEVENT
END:VCALENDAR
