BEGIN:VCALENDAR
VERSION:2.0
PRODID:-//CERN//INDICO//EN
BEGIN:VEVENT
SUMMARY:ACC/PN-JS
DTSTART:20190926T014000Z
DTEND:20190926T033000Z
DTSTAMP:20260424T205400Z
UID:indico-session-730@conference-indico.kek.jp
DESCRIPTION:Chair: Takeshi Nakadaira (KEK)\n\nhttps://conference-indico.ke
 k.jp/event/91/sessions/730/
RELATED-TO:indico-event-91@conference-indico.kek.jp
URL:https://conference-indico.kek.jp/event/91/sessions/730/
END:VEVENT
END:VCALENDAR
