BEGIN:VCALENDAR
VERSION:2.0
PRODID:-//CERN//INDICO//EN
BEGIN:VEVENT
SUMMARY:ACC-IP2
DTSTART:20190925T043000Z
DTEND:20190925T062000Z
DTSTAMP:20260424T202500Z
UID:indico-session-733@conference-indico.kek.jp
DESCRIPTION:Chair: Hidetomo Oguri (J-PARC Center)\n\nhttps://conference-in
 dico.kek.jp/event/91/sessions/733/
RELATED-TO:indico-event-91@conference-indico.kek.jp
URL:https://conference-indico.kek.jp/event/91/sessions/733/
END:VEVENT
END:VCALENDAR
