BEGIN:VCALENDAR
VERSION:2.0
PRODID:-//CERN//INDICO//EN
BEGIN:VEVENT
SUMMARY:MLF-DE
DTSTART:20190926T014000Z
DTEND:20190926T034000Z
DTSTAMP:20260424T205400Z
UID:indico-session-734@conference-indico.kek.jp
DESCRIPTION:Chair: Hiroyuki Aoki (J-PARC Center)\n\nhttps://conference-ind
 ico.kek.jp/event/91/sessions/734/
RELATED-TO:indico-event-91@conference-indico.kek.jp
URL:https://conference-indico.kek.jp/event/91/sessions/734/
END:VEVENT
END:VCALENDAR
