BEGIN:VCALENDAR
VERSION:2.0
PRODID:-//CERN//INDICO//EN
BEGIN:VEVENT
SUMMARY:OHO'21
DTSTART;VALUE=DATE-TIME:20210907T000000Z
DTEND;VALUE=DATE-TIME:20210910T030000Z
DTSTAMP;VALUE=DATE-TIME:20210425T214400Z
UID:indico-event-142@conference-indico.kek.jp
DESCRIPTION:このセミナーは、1984年の開校以来、今回で第3
 8回目の開催となります。\n今年のテーマは「次世代大
 型加速器 国際リニアコライダー – ILC –」です。\n今
 までのセミナー参加者の内訳は、全国からの修士、D1ぐ
 らいの大学院生、\nその他KEKの若手研究員、そして研究
 機関や企業の技術者ですが、ほとんど初参加の方々で
 す。\n基礎的な内容はもちろん、最先端の応用まで理解
 しやすい講義を行います。\nhttps://conference-indico.kek.jp/eve
 nt/142/
LOCATION:
URL:https://conference-indico.kek.jp/event/142/
END:VEVENT
END:VCALENDAR
