BEGIN:VCALENDAR
VERSION:2.0
PRODID:-//CERN//INDICO//EN
BEGIN:VEVENT
SUMMARY:The 6th Particle Physics School in South-East Asia
DTSTART;VALUE=DATE-TIME:20210923T230000Z
DTEND;VALUE=DATE-TIME:20210930T090000Z
DTSTAMP;VALUE=DATE-TIME:20210426T045200Z
UID:indico-event-97@conference-indico.kek.jp
DESCRIPTION:【ANNOUNCEMENT】We regret to inform that we will be cancelli
 ng (postponing) the school (PPSSEEA2020)\, which was being scheduled on 8-
 14 March in Bangkok. It was a difficult decision to make but one which we 
 had weighed carefully.\n\nWe are pleased to inform you that we have the 6t
 h Particle Physics School in South-East Asia with some emphasis on B physi
 cs from March 8th to 14th\, 2020 at Chulalongkorn university\, Bangkok\, T
 hailand\, dedicated for young students. We look forward to having many stu
 dents attend this enjoyable school.\nhttps://conference-indico.kek.jp/even
 t/97/
LOCATION:
URL:https://conference-indico.kek.jp/event/97/
END:VEVENT
END:VCALENDAR
