BEGIN:VCALENDAR
VERSION:2.0
PRODID:-//CERN//INDICO//EN
BEGIN:VEVENT
SUMMARY:KEK-IHEP Collaboration Meeting
DTSTART;VALUE=DATE-TIME:20191201T230000Z
DTEND;VALUE=DATE-TIME:20191203T090000Z
DTSTAMP;VALUE=DATE-TIME:20210424T171758Z
UID:indico-event-100@conference-indico.kek.jp
DESCRIPTION:https://conference-indico.kek.jp/event/100/
LOCATION:KEK San-go-kan 7th floor meeting room
URL:https://conference-indico.kek.jp/event/100/
END:VEVENT
END:VCALENDAR
