BEGIN:VCALENDAR
VERSION:2.0
PRODID:-//CERN//INDICO//EN
BEGIN:VEVENT
SUMMARY:R&D of SC RF-Gun
DTSTART;VALUE=DATE-TIME:20191202T073000Z
DTEND;VALUE=DATE-TIME:20191202T080000Z
DTSTAMP;VALUE=DATE-TIME:20210605T214354Z
UID:indico-event-13@conference-indico.kek.jp
DESCRIPTION:https://conference-indico.kek.jp/event/100/sessions/21/
LOCATION:KEK San-go-kan 7th floor meeting room
URL:https://conference-indico.kek.jp/event/100/sessions/21/
END:VEVENT
END:VCALENDAR
